BEGIN:VCALENDAR
VERSION:2.0
PRODID:-// - ECPv4.9.2//NONSGML v1.0//EN
CALSCALE:GREGORIAN
METHOD:PUBLISH
X-ORIGINAL-URL:https://mintmind.com.au
X-WR-CALDESC:Events for 
BEGIN:VEVENT
DTSTART;TZID=UTC+0:20190810T130000
DTEND;TZID=UTC+0:20190810T170000
DTSTAMP:20210223T204038
CREATED:20190530T013227Z
LAST-MODIFIED:20190530T013227Z
UID:113-1565442000-1565456400@mintmind.com.au
SUMMARY:Create a Life on Your Terms
DESCRIPTION:Ready to create life on your terms but dont know where to start? \nIn this 4 hour workshop learn more about yourself\, mindfulness practices and how to have emotional intelligence for better quality relationships as a parent\, partner and friend. \nLearn how to make better informed choices\, enhance your knowledge of how to build better relationships in your life. \nPlaces are limited so be sure to book your place here. \n
URL:https://mintmind.com.au/event/create-a-life-on-your-terms/
LOCATION:Arbourlea Family Centre\, 75 Wheelers Park Dr\, North Casey\, Cranbourne\, Melbourne\, VIC\, 3397\, Australia
ORGANIZER;CN="Jo":MAILTO:info@mintmind.com.au
END:VEVENT
END:VCALENDAR