BEGIN:VCALENDAR
VERSION:2.0
PRODID:-// - ECPv4.9.2//NONSGML v1.0//EN
CALSCALE:GREGORIAN
METHOD:PUBLISH
X-ORIGINAL-URL:https://mintmind.com.au
X-WR-CALDESC:Events for 
BEGIN:VEVENT
DTSTART;TZID=UTC+0:20190511T133000
DTEND;TZID=UTC+0:20190511T153000
DTSTAMP:20210223T202324
CREATED:20190425T032219Z
LAST-MODIFIED:20190430T110604Z
UID:92-1557581400-1557588600@mintmind.com.au
SUMMARY:Refresh your Work\, Life & Outlook
DESCRIPTION:\nDo you feel like you are on the hamster wheel of life? \nAre you so busy that life feels to be passing you by? \nDo you feel overwhelmed while juggling your life and work commitments?\nAre you ignoring your own needs to give everyone else your time?\n\n \nIf any of the above resonates with you then join Jo to see how your can strike a balance between your work and personal life. \nThis workshop is for people who run a small business or simply work in the following professions: \n\nMyotherapists\nRemedial massage therapists\nBeauticians\nHairdressers\nYoga instructors\n\nClick here if you wish to attend \n 
URL:https://mintmind.com.au/event/refresh-your-work-life-outlook/
LOCATION:Quest\, Princess Hwy & Verdun Drive\, Narre Warren\, VIC\, 3805\, Australia
CATEGORIES:Workshop
ORGANIZER;CN="Jo":MAILTO:info@mintmind.com.au
END:VEVENT
END:VCALENDAR